BEGIN:VCALENDAR
VERSION:2.0
PRODID:icalendar-ruby
CALSCALE:GREGORIAN
METHOD:PUBLISH
BEGIN:VEVENT
DTSTAMP:20260422T221239Z
UID:6-384545@beulahthomas.tithelysetup2.com
DTSTART:20260712T173000Z
DTEND:20260712T190000Z
CLASS:PUBLIC
CREATED:20260422T092819
DESCRIPTION:We want to invite you to be with us during Homecoming 2026!  
 \n\nWe are excited to have Guest Speaker Phil Hoskins and Special Music by
  The Byrd Family Bluegrass.\nLunch will be served after the Service.
LAST-MODIFIED:20260422T092819
LOCATION:456 Woodhull Rd\, Bainbridge\, GA 39819
SUMMARY:Homecoming 2026!
URL;VALUE=URI:https://beulahthomaschurch.com/events/homecoming-2026/2026-07
 -12
ATTACH;FILENAME=Home-Coming-2026.png;FMTTYPE=image/png:https://dq5pwpg1q8ru
 0.cloudfront.net/2026/04/22/16/26/32/ccda823c-19d2-4f52-9ff0-d991f1fa0e22/
 Home-Coming-2026.png
END:VEVENT
END:VCALENDAR
